BEGIN:VCALENDAR
VERSION:2.0
PRODID:-//hacksw/handcal//NONSGML v1.0//EN
BEGIN:VEVENT
SUMMARY:BNSSA - Examen
UID:9c8ec3b3-c232-4793-b8d3-dfca86aea28b
DTSTART:20260418T150000Z
DTEND:20260418T180000Z
LOCATION:Localisation   
CATEGORIES:Sportif
STATUS:
URL;VALUE=URI:https://www.assd-sauvetage.fr/evenements/2026/04/18/bnssa-examen-2442639
END:VEVENT
END:VCALENDAR
